BEGIN:VCALENDAR
VERSION:2.0
PRODID:
BEGIN:VEVENT
UID:036609mb
DTSTAMP:20260419T115807Z
DTSTART:20260505T180000Z
DTEND:20260505T200000Z
SUMMARY: Common Sense CFO: Decoding and Mitigating Internal and External Risks
DESCRIPTION: Do you get bored with similar rubrics&rsquo\; cube COSO risk model courses?  They are important and great\, but this course is intended to offer a fresh approach on the view of risk using the dynamic landscape of modern business\; CFOs are charged with navigating an array of external and internal risks that can impact organizational performance and sustainability. This seminar will empower finance professionals with the foresight and practical tools needed to understand\, anticipate\, and mitigate both external and internal risks. We must be aware and anticipate. If we do not adequately prepare\, we will be exposed to avoidable and onerous risk. Essential for leaders and organizations that want to survive and thrive. This seminar stands on its own but is also part of the Common Sense CFO series\n 
Speaker - Bob Mims
CLASS:PUBLIC
END:VEVENT
END:VCALENDAR
