BEGIN:VCALENDAR
VERSION:2.0
PRODID:
BEGIN:VEVENT
UID:038581ob
DTSTAMP:20260424T135659Z
DTSTART:20271001T130000Z
DTEND:20271002T213000Z
SUMMARY: Test Conference
DESCRIPTION: 
CLASS:PUBLIC
END:VEVENT
END:VCALENDAR
